BEGIN:VCALENDAR
VERSION:2.0
PRODID:https://github.com/derhansen/sf_event_mgt
METHOD:PUBLISH
BEGIN:VEVENT
UID:831-50@www.dgfe.org
CLASS: PUBLIC
SUMMARY:Verborgene LGS-Patienten im Fokus | ONLINE
DESCRIPTION:c.freyer@kleinwachau.de
DTSTAMP:20260203T092617Z
DTSTART:20260318T173000Z
DTEND:20260318T190000Z
END:VEVENT
END:VCALENDAR
