BEGIN:VCALENDAR
VERSION:2.0
PRODID:https://github.com/derhansen/sf_event_mgt
METHOD:PUBLISH
BEGIN:VEVENT
UID:865-50@www.dgfe.org
CLASS: PUBLIC
SUMMARY:EEG-Ausbildung | Online immer Mittwochs insgesamt 10 Sessions
DESCRIPTION:v.sepeur@hospitalverbund.de\n\nONLINE
DTSTAMP:20260303T100403Z
DTSTART:20260610T150000Z
DTEND:20260610T170000Z
END:VEVENT
END:VCALENDAR
